BEGIN:VCALENDAR
VERSION:2.0
PRODID:-//L&#039;Avant-courrier - ECPv6.15.20//NONSGML v1.0//EN
CALSCALE:GREGORIAN
METHOD:PUBLISH
X-WR-CALNAME:L&#039;Avant-courrier
X-ORIGINAL-URL:https://avantcourrier.fr
X-WR-CALDESC:Évènements pour L&#039;Avant-courrier
REFRESH-INTERVAL;VALUE=DURATION:PT1H
X-Robots-Tag:noindex
X-PUBLISHED-TTL:PT1H
BEGIN:VTIMEZONE
TZID:Europe/Paris
BEGIN:DAYLIGHT
TZOFFSETFROM:+0100
TZOFFSETTO:+0200
TZNAME:CEST
DTSTART:20240331T010000
END:DAYLIGHT
BEGIN:STANDARD
TZOFFSETFROM:+0200
TZOFFSETTO:+0100
TZNAME:CET
DTSTART:20241027T010000
END:STANDARD
BEGIN:DAYLIGHT
TZOFFSETFROM:+0100
TZOFFSETTO:+0200
TZNAME:CEST
DTSTART:20250330T010000
END:DAYLIGHT
BEGIN:STANDARD
TZOFFSETFROM:+0200
TZOFFSETTO:+0100
TZNAME:CET
DTSTART:20251026T010000
END:STANDARD
BEGIN:DAYLIGHT
TZOFFSETFROM:+0100
TZOFFSETTO:+0200
TZNAME:CEST
DTSTART:20260329T010000
END:DAYLIGHT
BEGIN:STANDARD
TZOFFSETFROM:+0200
TZOFFSETTO:+0100
TZNAME:CET
DTSTART:20261025T010000
END:STANDARD
END:VTIMEZONE
BEGIN:VEVENT
DTSTART;TZID=Europe/Paris:20251121T180000
DTEND;TZID=Europe/Paris:20251121T190000
DTSTAMP:20260424T093343
CREATED:20251112T101501Z
LAST-MODIFIED:20251112T101825Z
UID:5656-1763748000-1763751600@avantcourrier.fr
SUMMARY:Rencontre avec Pascaline Herveet
DESCRIPTION:Dans le cadre de la résidence de création de La Maison Noire\, rencontre avec Pascaline à la bibliothèque « L’apostrophe » – Espace Pierre Reverdy à Sablé sur Sarthe
URL:https://avantcourrier.fr/spectacle/rencontre-avec-pascaline-herveet/
LOCATION:L’apostrophe\, Espace Pierre Reverdy\, Sablé sur Sarthe
CATEGORIES:La Maison Noire
END:VEVENT
BEGIN:VEVENT
DTSTART;TZID=Europe/Paris:20251128T150000
DTEND;TZID=Europe/Paris:20251128T170000
DTSTAMP:20260424T093343
CREATED:20251112T101042Z
LAST-MODIFIED:20251112T101042Z
UID:5654-1764342000-1764349200@avantcourrier.fr
SUMMARY:Sortie de résidence La Maison Noire
DESCRIPTION:Résidence accueillie par l’Entracte- scène conventionnée de Sablé sur Sarthe\, en collaboration avec Le Plongeoir- Pole National Cirque du Mans.  Nous utiliserons la méthode Feedbacks pour animer la sortie de résidence.
URL:https://avantcourrier.fr/spectacle/sortie-de-residence-la-maison-noire/
LOCATION:L’Entracte\, 16 rue Saint-Denis\, Sablé-sur-Sarthe\, 72300\, France
CATEGORIES:La Maison Noire
END:VEVENT
END:VCALENDAR